BEGIN:VCALENDAR
VERSION:2.0
PRODID:Festa em Honra Divino São Salvador - Vilarinho de Parada de Pinhão
X-WR-CALNAME:Festa em Honra Divino São Salvador - Vilarinho de Parada de P
 inhão
X-WR-TIMEZONE:Europe/Lisbon
X-PUBLISHED-TTL:P1W
BEGIN:VTIMEZONE
TZID:Europe/Lisbon
X-LIC-LOCATION:Europe/Lisbon
END:VTIMEZONE
BEGIN:VEVENT
UID:69ecce65a341a
DTSTART;VALUE=DATE:20260508
SEQUENCE:0
TRANSP:OPAQUE
DTEND;VALUE=DATE:20260509
SUMMARY:Festa em Honra Divino São Salvador - Vilarinho de Parada de Pinhã
 o
CLASS:PUBLIC
DESCRIPTION:Festa em Honra Divino São Salvador - Vilarinho de Parada de Pi
 nhão
X-MICROSOFT-CDO-ALLDAYEVENT:TRUE
DTSTAMP:20260425T142333Z
END:VEVENT
END:VCALENDAR